BEGIN:VCALENDAR
VERSION:2.0
PRODID:-//TNFLS - ECPv6.15.20//NONSGML v1.0//EN
CALSCALE:GREGORIAN
METHOD:PUBLISH
X-WR-CALNAME:TNFLS
X-ORIGINAL-URL:https://tnfls-ntfsl.ca
X-WR-CALDESC:Évènements pour TNFLS
REFRESH-INTERVAL;VALUE=DURATION:PT1H
X-Robots-Tag:noindex
X-PUBLISHED-TTL:PT1H
BEGIN:VTIMEZONE
TZID:America/Toronto
BEGIN:DAYLIGHT
TZOFFSETFROM:-0500
TZOFFSETTO:-0400
TZNAME:EDT
DTSTART:20230312T070000
END:DAYLIGHT
BEGIN:STANDARD
TZOFFSETFROM:-0400
TZOFFSETTO:-0500
TZNAME:EST
DTSTART:20231105T060000
END:STANDARD
BEGIN:DAYLIGHT
TZOFFSETFROM:-0500
TZOFFSETTO:-0400
TZNAME:EDT
DTSTART:20240310T070000
END:DAYLIGHT
BEGIN:STANDARD
TZOFFSETFROM:-0400
TZOFFSETTO:-0500
TZNAME:EST
DTSTART:20241103T060000
END:STANDARD
BEGIN:DAYLIGHT
TZOFFSETFROM:-0500
TZOFFSETTO:-0400
TZNAME:EDT
DTSTART:20250309T070000
END:DAYLIGHT
BEGIN:STANDARD
TZOFFSETFROM:-0400
TZOFFSETTO:-0500
TZNAME:EST
DTSTART:20251102T060000
END:STANDARD
END:VTIMEZONE
BEGIN:VEVENT
DTSTART;TZID=America/Toronto:20240227T080000
DTEND;TZID=America/Toronto:20240327T170000
DTSTAMP:20260419T195929
CREATED:20230619T214510Z
LAST-MODIFIED:20240227T154722Z
UID:10000031-1709020800-1711558800@tnfls-ntfsl.ca
SUMMARY:Compétences linguistiques des enseignantes et enseignants en FLS
DESCRIPTION:Réunion vitrine 4 – 27 février 2024\nPRÉSENTATIONS \n\nDr Sarah Fedoration\, gestionnaire des programmes de langues\, Edmonton Catholic Schools\n\nVotre problème ou le mien ? Responsabilités perçues en matière de compétences linguistiques du personnel enseignant l’immersion en français. L’intérêt continu pour les programmes d’immersion française (IF) a créé une demande toute aussi importante de professionnels de l’enseignement possédant les compétences nécessaires pour enseigner dans le programme. Jusqu’à présent\, aucune recherche n’a exploré la connaissance et la compréhension du système par les leaders et le personnel enseignant en ce qui a trait aux responsabilités perçues pour assurer les compétences linguistiques des enseignantes et enseignants. Les résultats de cette recherche ont révélé un manque de cohérence dans la connaissance des exigences universitaires\, des exigences provinciales ainsi que des pratiques d’embauche et d’évaluation relatives à la compétence langagière du personnel enseignant en IF. Les résultats de cette étude – ainsi que leur portée – peuvent aider les divisions et conseils scolaires à s’assurer que les compétences linguistiques soient considérées comme une responsabilité partagée qui est articulée et mise en œuvre dans la procédure et la pratique. \nPour accéder à la présentation de Sarah Fedoration\, cliquez ici. \n2. Dr Carl Ruest\, professeur adjoint et Dr Meike Wernicke\, professeure adjointe\, département des langues et littératies en éducation\, University of British Columbia (UBC). \nIdentité et engagement légitimes: conditions essentielles pour le développement de compétences langagières \nLe visage du personnel enseignant le français langue seconde en Colombie-Britannique a changé au cours des dernières décennies. Alors que dans les années 80 et 90 la majorité du personnel enseignant avait le français comme langue première\, aujourd’hui\, ce sont plutôt les anciens diplômés des programmes d’immersion (et autres programmes de FLS) qui composent la majorité des professionnels de l’enseignement. \nCette réalité assez récente amène avec elle le fait que le personnel enseignant le FLS a des compétences langagières variées\, qui continuent de se développer au fil des années\, tout au long de la carrière professionnelle. Cependant\, le monde extérieur s’attend parfois à ce qu’il ait des compétences langagières « complètes ou finies ». Ces pressions extérieures peuvent faire en sorte que les membres du personnel enseignant voulant améliorer leur français hésitent à le faire\, et s’isolent dans leur salle de classe. Pour encourager ces personnes à améliorer leurs compétences langagières\, celles-ci doivent se sentir comme si elles ont la légitimité et la confiance\, ainsi que se construire une identité professionnelle forte qui comprend à la fois les rôles d’enseignant et d’apprenant. Comme activité de développement professionnel\, l’Institut d’été de UBC à Québec offre aux participantes et participants souhaitant développer leur français un environnement engageant où leur identité de professionnels de l’enseignement en FLS est valorisée et reconnue. \nPour accéder à la présentation de Carl Ruest et Meike Wernicke\, cliquez ici.
URL:https://tnfls-ntfsl.ca/event/27-fevrier-2024/
LOCATION:Zoom
CATEGORIES:Vitrine
ATTACH;FMTTYPE=image/jpeg:https://tnfls-ntfsl.ca/wp-content/uploads/2022/05/Tnfls-Projet2.jpg
ORGANIZER;CN="TNFLS":MAILTO:rdeevey@acpi.ca
END:VEVENT
END:VCALENDAR