BEGIN:VCALENDAR
VERSION:2.0
PRODID:-//TNFLS - ECPv6.15.20//NONSGML v1.0//EN
CALSCALE:GREGORIAN
METHOD:PUBLISH
X-WR-CALNAME:TNFLS
X-ORIGINAL-URL:https://tnfls-ntfsl.ca
X-WR-CALDESC:Évènements pour TNFLS
REFRESH-INTERVAL;VALUE=DURATION:PT1H
X-Robots-Tag:noindex
X-PUBLISHED-TTL:PT1H
BEGIN:VTIMEZONE
TZID:America/Toronto
BEGIN:DAYLIGHT
TZOFFSETFROM:-0500
TZOFFSETTO:-0400
TZNAME:EDT
DTSTART:20220313T070000
END:DAYLIGHT
BEGIN:STANDARD
TZOFFSETFROM:-0400
TZOFFSETTO:-0500
TZNAME:EST
DTSTART:20221106T060000
END:STANDARD
BEGIN:DAYLIGHT
TZOFFSETFROM:-0500
TZOFFSETTO:-0400
TZNAME:EDT
DTSTART:20230312T070000
END:DAYLIGHT
BEGIN:STANDARD
TZOFFSETFROM:-0400
TZOFFSETTO:-0500
TZNAME:EST
DTSTART:20231105T060000
END:STANDARD
BEGIN:DAYLIGHT
TZOFFSETFROM:-0500
TZOFFSETTO:-0400
TZNAME:EDT
DTSTART:20240310T070000
END:DAYLIGHT
BEGIN:STANDARD
TZOFFSETFROM:-0400
TZOFFSETTO:-0500
TZNAME:EST
DTSTART:20241103T060000
END:STANDARD
BEGIN:DAYLIGHT
TZOFFSETFROM:-0500
TZOFFSETTO:-0400
TZNAME:EDT
DTSTART:20250309T070000
END:DAYLIGHT
BEGIN:STANDARD
TZOFFSETFROM:-0400
TZOFFSETTO:-0500
TZNAME:EST
DTSTART:20251102T060000
END:STANDARD
END:VTIMEZONE
BEGIN:VEVENT
DTSTART;TZID=America/Toronto:20231206T130000
DTEND;TZID=America/Toronto:20240120T233000
DTSTAMP:20260419T214303
CREATED:20230619T194351Z
LAST-MODIFIED:20231205T174108Z
UID:10000026-1701867600-1705793400@tnfls-ntfsl.ca
SUMMARY:Pratiques innovantes de recrutement et de formation dans les facultés d'éducation
DESCRIPTION:Réunion vitrine 2 – 6 décembre 2023\n  \nPRÉSENTATIONS \nPeter Chin\, doyen associé de la formation aux enseignants et Edith Bovey\, professeur adjoint\, programme multisession en français langue seconde\, université Queen’s. \nLa faculté d’éducation de Queen’s\, en partenariat avec le Eastern Ontario Staff Development Network (EOSDN)\, un réseau qui représente 13 conseils scolaires de l’Est de l’Ontario\, a lancé un programme appelé French as a Second Language Multisession (FSLM) en 2022. Grâce à un calendrier éclaté et une approche non traditionnelle\, ce programme novateur permet aux enseignantes et enseignants non qualifiés qui parlent français et qui travaillent déjà dans les écoles de l’est ontarien d’améliorer rapidement leurs compétences et de se préparer à occuper des postes d’enseignement permanents. L’université Queen’s s’occupe de la mise en œuvre du programme\, tandis que l’EOSDN se concentre sur le recrutement des candidats. Pour lire un article de l’université Queen’s au sujet du FSLM\, cliquez ici. \nMarie-France Gaumont\, experte-conseil en communication stratégique et en éducation\, consultante auprès de l’Association canadienne des professionnels de l’immersion (ACPI). \nEn juin 2023\, à la suite d’une enquête pancanadienne visant à brosser le portrait des enjeux liés au recrutement d’étudiantes et d’étudiants dans les programmes universitaires en éducation\, l’Association canadienne des professionnels de l’immersion (ACPI) a publié un avis stratégique qui a suscité énormément d’intérêt. Dans cette publication\, on expose 6 grands constats face à ces enjeux\, 20 facteurs déterminants représentant autant de freins au recrutement et 45 pistes de solutions prometteuses afin d’accroître le bassin de relève enseignante en français langue seconde en contexte de pénurie. Cette présentation abordera\, entre autres\, les faits saillants de l’enquête\, les freins et les défis vécus par près de trente facultés d’éducation quant à l’offre de formation destinée aux futurs membres du personnel enseignant ainsi que les principales recommandations issues de l’avis stratégique. De quoi en inspirer plusieurs!\n\nPour lire la Synthèse de l’Avis stratégique et du rapport d’enquête sur les enjeux liés au recrutement dans les programmes universitaires en éducation et pistes de solutions pour accroître le bassin de relève enseignante en FLS\, cliquez ici.\n \nN. B. : Cette réunion vitrine sera exceptionnellement suivie d’une session de discussion en ligne destinée aux facultés d’éducation intéressées à approfondir le sujet avec notre invitée\, Marie-France Gaumont. Pour plus de détails ou pour manifester votre intérêt à y participer\, veuillez envoyer un message à rdeevey@acpi.ca avant le 5 décembre prochain.\n\nLIENS VERS LES PRÉSENTATIONS\nPrésentation de Peter Chin et Edith Bovey\, Université Queen’s\nPrésentation de Marie-France Gaumont\, ACPI
URL:https://tnfls-ntfsl.ca/event/6-decembre-2023/
LOCATION:Zoom
CATEGORIES:Vitrine
ATTACH;FMTTYPE=image/jpeg:https://tnfls-ntfsl.ca/wp-content/uploads/2022/05/Tnfls-Projet3.jpg
ORGANIZER;CN="TNFLS":MAILTO:rdeevey@acpi.ca
END:VEVENT
END:VCALENDAR