BEGIN:VCALENDAR
VERSION:2.0
PRODID:-//TNFLS - ECPv6.15.20//NONSGML v1.0//EN
CALSCALE:GREGORIAN
METHOD:PUBLISH
X-ORIGINAL-URL:https://tnfls-ntfsl.ca
X-WR-CALDESC:Évènements pour TNFLS
REFRESH-INTERVAL;VALUE=DURATION:PT1H
X-Robots-Tag:noindex
X-PUBLISHED-TTL:PT1H
BEGIN:VTIMEZONE
TZID:America/Toronto
BEGIN:DAYLIGHT
TZOFFSETFROM:-0500
TZOFFSETTO:-0400
TZNAME:EDT
DTSTART:20220313T070000
END:DAYLIGHT
BEGIN:STANDARD
TZOFFSETFROM:-0400
TZOFFSETTO:-0500
TZNAME:EST
DTSTART:20221106T060000
END:STANDARD
BEGIN:DAYLIGHT
TZOFFSETFROM:-0500
TZOFFSETTO:-0400
TZNAME:EDT
DTSTART:20230312T070000
END:DAYLIGHT
BEGIN:STANDARD
TZOFFSETFROM:-0400
TZOFFSETTO:-0500
TZNAME:EST
DTSTART:20231105T060000
END:STANDARD
BEGIN:DAYLIGHT
TZOFFSETFROM:-0500
TZOFFSETTO:-0400
TZNAME:EDT
DTSTART:20240310T070000
END:DAYLIGHT
BEGIN:STANDARD
TZOFFSETFROM:-0400
TZOFFSETTO:-0500
TZNAME:EST
DTSTART:20241103T060000
END:STANDARD
END:VTIMEZONE
BEGIN:VEVENT
DTSTART;TZID=America/Toronto:20230215T130000
DTEND;TZID=America/Toronto:20230331T141500
DTSTAMP:20260420T111143
CREATED:20220519T164636Z
LAST-MODIFIED:20230216T172011Z
UID:10000015-1676466000-1680272100@tnfls-ntfsl.ca
SUMMARY:Dernières recherches sur l'apprentissage d'une langue seconde et nouveautés d'autres pays
DESCRIPTION:Réunion vitrine 3 – mercredi 15 février 2023\n  \nModératrice: Monika Jezak\, professeur\, Institut des langues officielles et du bilinguisme (ILOB)\, Université d’Ottawa \nPRÉSENTATIONS \n1. Philippe Hiligsmann\, professeur\, Université catholique de Louvain\, Belgique – Institut langage et communication (ILC) \nEvaluation de l’Enseignement d’une Matière par Intégration d’une Langue Etrangère (EMILE) \nSur la base d’une étude longitudinale à grande échelle\, ce projet de recherche vise à mieux comprendre les aspects linguistiques\, cognitifs et éducationnels de l’immersion et à comprendre comment l’interaction entre ces trois perspectives peut sous-tendre les processus d’acquisition de la langue seconde. À cette fin\, le projet se concentre sur les apprenants francophones en immersion et non-immersion (groupe contrôle) ayant le néerlandais ou l’anglais comme langue cible. Les données ont été collectées à différents moments au cours des deux dernières années de l’enseignement primaire et secondaire. Cette étude interdisciplinaire vise à apporter une forte contribution empirique et théorique aux débats scientifiques internationaux en cours sur le multilinguisme en général et sur l’immersion en particulier. \n2. Véronique Miguel Addisu\, chercheure\, Université de Rouen Normandie\, France — Institut national supérieur du professorat et de l’éducation (INSPE). \nFrançais Plus \nFrançais Plus est un projet scientifique s’inscrivant dans une démarche de coopération éducative franco-canadienne autour de la francophonie\, du plurilinguisme et du numérique en contexte de crise sanitaire. La recherche vise à documenter les pratiques d’enseignement — apprentissage en français en situation plurilingue\, dans un contexte sanitaire qui rend nécessaire l’usage des pratiques numériques dans la classe. \nL’équipe scientifique s’est intéressée aux pratiques d’enseignement/apprentissage en français dans les écoles du réseau de l’Agence pour l’enseignement français à l’étranger (AEFE) d’Amérique du Nord pendant la période de confinement\, alors que des modalités d’hybridation des cours se développent pour répondre aux contraintes sanitaires. Le but est de connaitre ces pratiques didactiques nouvelles et en cours de ritualisation\, et d’interroger leurs effets potentiels sur les apprentissages\, afin de soutenir le développement professionnel des praticiens. \nLIENS VERS LES PRÉSENTATIONS ET DOCUMENTS CONNEXES \nPrésentation de Philippe Hiligsmann (en français) \nPour en apprendre davantage au sujet du projet de recherche Français Plus présenté par Véronique Miguel Addisu (mise en contexte\, résultats\, vidéos\, etc.) : https://francaisplus.hypotheses.org/contexte \n 
URL:https://tnfls-ntfsl.ca/event/reunion-vitrine1/
CATEGORIES:Vitrine
ATTACH;FMTTYPE=image/jpeg:https://tnfls-ntfsl.ca/wp-content/uploads/2022/05/Tnfls-Projet3.jpg
ORGANIZER;CN="TNFLS":MAILTO:rdeevey@acpi.ca
LOCATION:https://us02web.zoom.us/j/87529195049
END:VEVENT
END:VCALENDAR