BEGIN:VCALENDAR
VERSION:2.0
PRODID:-//TNFLS - ECPv6.15.20//NONSGML v1.0//EN
CALSCALE:GREGORIAN
METHOD:PUBLISH
X-WR-CALNAME:TNFLS
X-ORIGINAL-URL:https://tnfls-ntfsl.ca/en/
X-WR-CALDESC:Events for TNFLS
REFRESH-INTERVAL;VALUE=DURATION:PT1H
X-Robots-Tag:noindex
X-PUBLISHED-TTL:PT1H
BEGIN:VTIMEZONE
TZID:America/Toronto
BEGIN:DAYLIGHT
TZOFFSETFROM:-0500
TZOFFSETTO:-0400
TZNAME:EDT
DTSTART:20240310T070000
END:DAYLIGHT
BEGIN:STANDARD
TZOFFSETFROM:-0400
TZOFFSETTO:-0500
TZNAME:EST
DTSTART:20241103T060000
END:STANDARD
BEGIN:DAYLIGHT
TZOFFSETFROM:-0500
TZOFFSETTO:-0400
TZNAME:EDT
DTSTART:20250309T070000
END:DAYLIGHT
BEGIN:STANDARD
TZOFFSETFROM:-0400
TZOFFSETTO:-0500
TZNAME:EST
DTSTART:20251102T060000
END:STANDARD
BEGIN:DAYLIGHT
TZOFFSETFROM:-0500
TZOFFSETTO:-0400
TZNAME:EDT
DTSTART:20260308T070000
END:DAYLIGHT
BEGIN:STANDARD
TZOFFSETFROM:-0400
TZOFFSETTO:-0500
TZNAME:EST
DTSTART:20261101T060000
END:STANDARD
BEGIN:DAYLIGHT
TZOFFSETFROM:-0500
TZOFFSETTO:-0400
TZNAME:EDT
DTSTART:20270314T070000
END:DAYLIGHT
BEGIN:STANDARD
TZOFFSETFROM:-0400
TZOFFSETTO:-0500
TZNAME:EST
DTSTART:20271107T060000
END:STANDARD
END:VTIMEZONE
BEGIN:VEVENT
DTSTART;TZID=America/Toronto:20251023T130000
DTEND;TZID=America/Toronto:20260430T233000
DTSTAMP:20260426T002358
CREATED:20250819T194315Z
LAST-MODIFIED:20251104T215529Z
UID:10000056-1761224400-1777591800@tnfls-ntfsl.ca
SUMMARY:Supporting and promoting the value of FSL in the context of multilingual development
DESCRIPTION:Showcase meeting 1 – Thursday\, October 23\, 2025\n  \nHow can we support and ensure the promotion of French as an essential language in schools\, not only in a bilingual context\, but also in a multilingual development context?\n  \nPRESENTATION \n  \nCatherine Gosselin-Lavoie\, Assistant Professor of French Language Teaching\, Faculty of Education\, Université de Montréal\, and Claude Quevillon Lacasse\, Assistant Professor in the Faculty of Education at the University of Ottawa  \nMs. Gosselin-Lavoie and Ms. Quevillon Lacasse will discuss the promotion of French and language learning from an inclusive and additive perspective\, i.e.\, one in which the different languages in a student’s language repertoire (both those already known and those currently being learned) are seen as complementary rather than competing. The presenters will illustrate their points with concrete examples of teaching approaches tested in different French learning contexts: with newly arrived immigrant students\, in immersion classes\, and in minority contexts. \nIn preparation for the showcase meeting\, participants are encouraged to visit the website Les approches plurilingues dans les écoles de langue française en Ontario (Multilingual Approaches in French-Language Schools in Ontario) for an overview of the resources available to teachers outside Quebec who are interested in implementing teaching practices that promote linguistic and cultural diversity. \nPresentation in English (PDF) \nThe question and answer portion of the showcase meeting will be moderated by François Ouellette\, Director of the Éducation en français Division\, Government of Nunavut \nDownload the 2025-2026 showcase meeting poster  \n**NEW** Video recording (Zoom) of the showcase meeting
URL:https://tnfls-ntfsl.ca/en/event/supporting-and-promoting-the-value-of-fsl-in-the-context-of-multilingual-development-2/
CATEGORIES:Vitrine
ATTACH;FMTTYPE=image/jpeg:https://tnfls-ntfsl.ca/wp-content/uploads/2022/05/Tnfls-Projet.jpg
ORGANIZER;CN="TNFLS":MAILTO:rdeevey@acpi.ca
LOCATION:
END:VEVENT
BEGIN:VEVENT
DTSTART;TZID=America/Toronto:20251127T130000
DTEND;TZID=America/Toronto:20260430T141500
DTSTAMP:20260426T002358
CREATED:20250819T194157Z
LAST-MODIFIED:20251208T223000Z
UID:10000057-1764248400-1777558500@tnfls-ntfsl.ca
SUMMARY:Parents and FSL learning in Canada
DESCRIPTION:Showcase meeting 2 – Thursday\, November 27\, 2025\n  \nHow can we promote FSL to parents and facilitate access to programs for those who want it?\n  \nPRESENTATIONS:\n  \nRobert James Talbot\, Manager of Research\, Office of the Commissioner of Official Languages of Canada (OCOL)\, will briefly revisit some of the highlights of research from the Office of the Commissioner of Official Languages\, Accessing opportunity: A study on challenges in French-as-a-second-language education teacher supply and demand in Canada\, and link to the broader question of how to promote FSL education to parents and how to facilitate access to FSL programmes. He will do so not only by drawing upon the study\, but also his professional and personal experiences as a federal public servant at the Office of the Commissioner\, as a French immersion graduate himself\, and as a parent of children in French immersion today. He will also draw upon the wise words of his mother who\, when asked why his parents had put him in French immersion to begin with\, responded simply: “Well\, why not?” \nAhdithya Visweswaran\, Director\, Advocacy and Public Policy\, Canadian Parents for French\, will provide an update on the state of access to French as a second language programs across the country\, with a particular focus on French immersion. He will then present the existing policies and levers that influence the availability of these programs\, before unveiling Canadian Parents for French (Ontario)’s legislative project\, an initiative aimed at guaranteeing and strengthening access to immersion for all students who wish to learn in French. \nDOWNLOAD CPF PRESENTATION \nDOWNLOAD PRESENTATION BY THE OFFICE OF THE COMMISSIONER OF OFFICIAL LANGUAGES  \nSCREEN THE SHOWCASE MEETING VIDEO
URL:https://tnfls-ntfsl.ca/en/event/parents-and-fsl-learning-in-canada-2/
LOCATION:Zoom
CATEGORIES:Showcase meeting,Vitrine
ATTACH;FMTTYPE=image/jpeg:https://tnfls-ntfsl.ca/wp-content/uploads/2022/05/Tnfls-Projet3.jpg
ORGANIZER;CN="TNFLS":MAILTO:rdeevey@acpi.ca
END:VEVENT
BEGIN:VEVENT
DTSTART;TZID=America/Toronto:20260113T130000
DTEND;TZID=America/Toronto:20260430T141500
DTSTAMP:20260426T002358
CREATED:20250819T194054Z
LAST-MODIFIED:20260129T210505Z
UID:10000058-1768309200-1777558500@tnfls-ntfsl.ca
SUMMARY:Revitalization and re-energizing of Indigenous languages and teaching of FSL
DESCRIPTION:Showcase meeting 3 – Tuesday\, January 13\, 2026\n\n\nIn a context where we understand the vital importance of revitalizing/re-energizing indigenous languages\, how can we continue to ensure the place of French in our schools\, while ensuring that one is not perceived as being at the expense of the other?\n\n  \nPRESENTATIONS:\n\nDr. Wendy Carr is a Professor Emerita at the University of British Columbia (UBC). She was Associate Dean of Teacher Education\, oversaw UBC’s French teacher education programs\, and was an FSL teacher and coordinator in BC schools for many years.\n\nShe has edited several research publications\, including a discussion paper on Official and Indigenous Languages Education in Canada for Canadian Parents for French (CPF). Dr. Carr will provide examples of Indigenous languages education programs across the country. She will also invite us to consider various orientations to language learning and raise questions about how advocates of French and Indigenous languages education can move forward. \n2. Dr. Isabelle Côté is a Senior Lecturer in the Faculty of Education at Simon Fraser University. She specializes in teacher pre-service and in-service education in the following three programs: French as a second language\, French immersion\, and the Francophone program. In her doctoral research\, she focused on the integration of Indigenous perspectives into the French immersion program in British Columbia. \nThe purpose of her presentation is to provide a framework for reflection on the colonial linguistic ideologies that still exist and influence language teaching in our schools. Dr. Côté will also explore questions related to the importance of integrating Indigenous perspectives in the context of teaching French as a second language. \n3. Ashley Tulugak\, Inuit educator and trainer\, and François Ouellette\, Director of the Éducation en français Division\, Government of Nunavut. \nSince 2008\, Ashley Tulugak has taught all grade levels in Iqaluit and Rankin Inlet\, bringing her lived experience and strong connection to Inuit life into the classroom. She now works in Educator Development\, supporting and mentoring teachers across the territory. \nAshley’s presentation highlights why revitalizing Inuktut is essential for student belonging\, cultural continuity\, and the future of education in Nunavut. She will look at the capacity challenges schools face and why strengthening Inuktut must come before expanding into additional languages. The session will also touch on the place of French as an optional offering when capacity and resources permit. Participants will reflect on what sustainable\, community-driven language support looks like. \nFor his part\, François Ouellette will bring the perspective of French as a second language education in Nunavut\, while respecting the curriculum focused on Inuit language and culture. \nPRESENTATION LINKS (will be posted 2026-01-13) \n\nWendy Carr’s presentation\nIsabelle Côté’s presentation\nAshley Tulugak and François Ouellette’s presentation (Inuktut and English)\n\nShowcase meeting RECORDING (video)
URL:https://tnfls-ntfsl.ca/en/event/revitalization-of-indigenous-languages-and-teaching-of-fsl/
CATEGORIES:Showcase meeting,Vitrine
ATTACH;FMTTYPE=image/jpeg:https://tnfls-ntfsl.ca/wp-content/uploads/2023/07/recrutement-2-copie.jpg
ORGANIZER;CN="TNFLS":MAILTO:rdeevey@acpi.ca
LOCATION:
END:VEVENT
BEGIN:VEVENT
DTSTART;TZID=America/Toronto:20260224T130000
DTEND;TZID=America/Toronto:20260430T141500
DTSTAMP:20260426T002358
CREATED:20250819T193931Z
LAST-MODIFIED:20260411T160020Z
UID:10000059-1771938000-1777558500@tnfls-ntfsl.ca
SUMMARY:FSL and Inclusion
DESCRIPTION:Showcase meeting 4 – Tuesday\, February 24\, 2026\nWhat does research say about the inclusion of students with diverse backgrounds in FSL classrooms?\n  \nPRESENTATIONS :\n  \n\nMimi Masson (she/her) is an associate professor in the Faculty of Education at the University of Sherbrooke\, where she teaches additional language education. She has worked as a teacher and teacher trainer for over 10 years in Canada and Japan\, specializing in the teaching of French and English as a second language. In her presentation\, she will explore the concept of inclusion in French as a second language\, based on the idea that inclusion is not simply a matter of integrating more students into existing programs\, but rather of fundamentally rethinking our pedagogical approaches. Recent research reveals that racialized\, allophone\, immigrant\, and sexual and gender-diverse students experience very different realities in our FSL classrooms. Each profile faces distinct challenges that require tailored pedagogical responses. Three key questions will guide our reflection:\n\n\n\n\nWhat language standards and varieties of French do we value in our programs?\nHow do we leverage the linguistic and cultural riches that students already bring to the classroom?\nHow do we address the historical and cultural dimensions of French language teaching?\n\n\n\n2. Reshara Alviarez (she/her) is a language education researcher and graduate of the University of Toronto specializing in inclusive language policies in Creole-speaking and migrant contexts. Her presentation will focus on the challenges and opportunities associated with including students with special needs in additional language classrooms\, with an emphasis on inclusive education in FSL programs across Canada. \nShe conducted a needs analysis of teachers across the country as part of the Canadian Association of Second Language Teachers (CASLT) project “Success for All.” Her presentation will report on the results of this study\, including the experiences of teachers\, as well as an overview of the tools developed in response to these results. \nPRESENTATIONS: \nMimi Masson : \n\nRepenser l’inclusion en français langue seconde (presentation in French)\nAccompanying notes in English to support comprehension\n\nReshara Aviarez: \nLa diversité en FLS : éducation spécialisée/Diversity in FSL : Special Education  (bilingual presentation) \nSHOWCASE MEETING VIDEO RECORDING
URL:https://tnfls-ntfsl.ca/en/event/fsl-and-inclusion/
CATEGORIES:Showcase meeting,Vitrine
ATTACH;FMTTYPE=image/jpeg:https://tnfls-ntfsl.ca/wp-content/uploads/2022/05/Tnfls-Projet2.jpg
ORGANIZER;CN="TNFLS":MAILTO:rdeevey@acpi.ca
LOCATION:
END:VEVENT
BEGIN:VEVENT
DTSTART;TZID=America/Toronto:20260421T130000
DTEND;TZID=America/Toronto:20260531T141500
DTSTAMP:20260426T002358
CREATED:20250819T193831Z
LAST-MODIFIED:20260421T143812Z
UID:10000060-1776776400-1780236900@tnfls-ntfsl.ca
SUMMARY:Highlighting original projects related to FSL in Canada
DESCRIPTION:Showcase meeting 5 – Tuesday\, April 21\, 2026\nWhat promising projects related to FSL teaching and learning in Canada have been implemented in 2025?\n\n  \nPRESENTATIONS:\n  \n\nJessica Miller\, National Project Manager\, Canadian Parents for French. Ms. Miller will tell us about the French Footprints program which promotes French second language learning across Canada amongst parents and educators of children in their early years (ages 0-6.) The Footprints program offers parents and educators tools such as the Parent Resource Hub\, where parents can find podcasts\, magazines\, scholarship opportunities\, and other useful resources to introduce French to their children at a young age. Educators also have access to a Training for Educators certification\, which allows them to introduce French using practical strategies\, confidence-building tools\, and ready-to-use resources. The best part? Parents and educators don’t need to know French to participate. Join us in finding out more about taking the first steps towards bilingualism- one footprint at a time.\n\n2. Olivier Alfieri\, founder of Elearning.Studio and FLS-ESL.training\, and Dominique Scheffel-Dunand\, associate professor at York University (Toronto). Mr. Alfieri and Ms. Scheffel-Dunand will provide an overview of the next phase of the Camerise project’s development as a provincial mechanism to optimize the quality\, consistency\, and equity of French as a Second Language (FSL/FLA) and IF learning experiences for K-12 students in Ontario. Building on a digital educational infrastructure\, community-co-created resources and tools\, and partnerships developed since 2020\, the project focuses on implementing and sustaining evidence-based teaching practices in classrooms. \nBy bringing together synergies between teachers\, educational advisors\, researchers\, administrators\, and institutional partners in a space for collaboration and mediation\, Camerise Communities promotes educational innovation and continuous professional development. \nPRESENTATIONS \nJessica Miller\, CPF : French Footprints \nOlivier Alfieri and Dominique Scheffel-Dunand : Camerise Communities – presentation in English and presentation in both French and English \n 
URL:https://tnfls-ntfsl.ca/en/event/highlighting-original-projects-related-to-fsl-in-canada/
LOCATION:Zoom
CATEGORIES:Showcase meeting,Vitrine
ATTACH;FMTTYPE=image/jpeg:https://tnfls-ntfsl.ca/wp-content/uploads/2022/05/Tnfls-Projet-1.jpg
ORGANIZER;CN="TNFLS":MAILTO:rdeevey@acpi.ca
END:VEVENT
END:VCALENDAR